BEGIN:VCALENDAR
VERSION:2.0
PRODID:-//Terrapie//NONSGML kigkonsult.se iCalcreator 2.30.10//
CALSCALE:GREGORIAN
METHOD:PUBLISH
UID:c8071ad9-a359-4166-8e73-acea2783ff98
X-WR-CALNAME:iCagenda
X-WR-CALDESC:Event Management Extension for Joomla!
X-WR-RELCALID:3E26604A-50F4-4449-8B3E-E4F4932D05B5
X-WR-TIMEZONE:Europe/Paris
BEGIN:VTIMEZONE
TZID:Europe/Paris
BEGIN:STANDARD
TZNAME:CET
DTSTART:20261025T030000
TZOFFSETFROM:+0200
TZOFFSETTO:+0100
RDATE:20271031T030000
END:STANDARD
BEGIN:DAYLIGHT
TZNAME:CEST
DTSTART:20260329T020000
TZOFFSETFROM:+0100
TZOFFSETTO:+0200
RDATE:20270328T020000
RDATE:20280326T020000
END:DAYLIGHT
END:VTIMEZONE
BEGIN:VEVENT
UID:64f5c0c9-ae88-4255-bc24-102ee3c3c4a3
DTSTAMP:20260424T164407Z
CATEGORIES:Formations-Séminaires
CLASS:PUBLIC
DESCRIPTION;ALTREP="CID:<FFFF__=0ABBE548DFE235B58f9e8a93d@coffeebean.com>":
 &nbsp\;\n\n\n\nFormation Proposée par\nIn Vita\n\n\nIntervenant(s)\nJean-L
 uc Picot\n\n\nInformations et Inscriptions\n\nModule 1 : du vendredi 2 au 
 dimanche 4 octobre 2026\nModule 2 : du vendredi 6 au dimanche 8 novembre 2
 026\nInformations directement sur le site d'In Vita\n\n\n\n\n&nbsp\;\n&nbs
 p\;\n&nbsp\;
DTSTART:20261106T080000Z
DTEND:20261108T160000Z
GEO:00;0
LOCATION:
ORGANIZER:
SEQUENCE:1
SUMMARY:Formation In Vita - Module 2
TRANSP:OPAQUE
URL:https://terrapie.fr/agenda/agenda-formations-2/3-formation-in-vita-2
END:VEVENT
END:VCALENDAR
